BEGIN:VCALENDAR
VERSION:2.0
PRODID:-//wp-events-plugin.com//7.2.3.1//EN
TZID:Europe/London
X-WR-TIMEZONE:Europe/London
BEGIN:VEVENT
UID:619@kingsgrove-residents.co.uk
DTSTART;TZID=Europe/London:20260423T173000
DTEND;TZID=Europe/London:20260423T190000
DTSTAMP:20260414T103708Z
URL:https://kingsgrove-residents.co.uk/events/a-2026-03-26-2026-04-23/
SUMMARY:Kingsgrove Resident Working Group
DESCRIPTION:Agenda\n\n 	Management Company Update\n\n 	Works Complete\n 	Wo
 rks Scheduled\n 	Resident Queries\n\n\n 	Finances\n\n 	Budget / Accounts /
  OST Contributions\n 	Arrears\n\n\n 	Development Updates\n 	Topics raised 
 by residents\n 	AOB\n\nIt is a private meeting\, but input from residents 
 is very welcome. If you have an issue that you would like raising\, please
  send an e-mail to reps@kingsgrove-residents.co.uk or use the contact page
 .\n\nYou can find out more here\, including how to become a resident repre
 sentative.\nMinutes of previous meeting\nThe minutes of the meeting in Feb
 ruary can be found here. (There was no meeting in March)
ATTACH;FMTTYPE=image/jpeg:https://i0.wp.com/kingsgrove-residents.co.uk/wp-
 content/uploads/2025/12/IMG_0818-scaled.jpeg?fit=2560%2C1708&ssl=1
CATEGORIES:Kingsgrove Residents Working Group
END:VEVENT
BEGIN:VTIMEZONE
TZID:Europe/London
X-LIC-LOCATION:Europe/London
BEGIN:DAYLIGHT
DTSTART:20260329T020000
TZOFFSETFROM:+0000
TZOFFSETTO:+0100
TZNAME:BST
END:DAYLIGHT
END:VTIMEZONE
END:VCALENDAR