BEGIN:VCALENDAR
VERSION:2.0
PRODID:-//wp-events-plugin.com//7.2.3.1//EN
TZID:Europe/London
X-WR-TIMEZONE:Europe/London
BEGIN:VEVENT
UID:437@kingsgrove-residents.co.uk
DTSTART;TZID=Europe/London:20260422T150000
DTEND;TZID=Europe/London:20260422T180000
DTSTAMP:20250814T142602Z
URL:https://kingsgrove-residents.co.uk/events/around-table-2-2023-02-01-20
 23-02-08-2023-02-15-2023-02-22-2023-03-01-2023-03-08-2023-03-15-2023-03-22
 -2023-03-29-2023-04-05-2023-04-12-2023-04-19-2023-04-26-2023-05-03-2023-05
 -10-2023-0-15-2026-04-22/
SUMMARY:Around Table
DESCRIPTION:FREE hot food for all - soup\, hot main and a pudding\, availab
 le for take-away or eat in.\nOne portion per person (or enough for a house
 hold).\n\nAround Table relies on donations of ingredients from our charity
  partners and so\, each week\, a menu will be planned with what we have av
 ailable to us. Major dietary requirements will be taken into consideration
  where possible. Please check this page each week for today's menu. Last o
 rders is 5:30pm.\n\nWARM SPACE\nIn a gentle and relaxing environment with 
 tea and coffee. Holy Trinity's underfloor heating is guaranteed to help ta
 ke away the winter chill\, and with full accessibility (including loos)\, 
 all are able to use the facilities.\n\nAround Table is fortunate to be par
 tners with Vale Community Impact (VCI). VCI will be able to take enquiries
  about this project as well as offering free\, confidential advice from tr
 ained volunteers on a range of topics including:\n\n 	benefits entitlement
 \n 	housing issues\n 	employment rights\n 	consumer issues\n 	debt counsel
 ling\n\nThey are also a local food bank referral partner.\n\nFor more info
 rmation:\n\n 	Call 01235 765348\n 	E-mail help@vci.org.uk\n 	Visit https:/
 /wantageparish.com/community/around-table.html\n
ATTACH;FMTTYPE=image/jpeg:https://i0.wp.com/kingsgrove-residents.co.uk/wp-
 content/uploads/2023/02/IMG_8720.png?fit=2000%2C1801&ssl=1
CATEGORIES:Parish of Wantage with Holy Trinity, Charlton
LOCATION:Holy Trinity Church\, Holy Trinity Church\, Wantage\, OX12 7HW\, U
 nited Kingdom
X-APPLE-STRUCTURED-LOCATION;VALUE=URI;X-ADDRESS=Holy Trinity Church\, Wanta
 ge\, OX12 7HW\, United Kingdom;X-APPLE-RADIUS=100;X-TITLE=Holy Trinity Chu
 rch:geo:0,0
END:VEVENT
BEGIN:VTIMEZONE
TZID:Europe/London
X-LIC-LOCATION:Europe/London
BEGIN:DAYLIGHT
DTSTART:20260329T020000
TZOFFSETFROM:+0000
TZOFFSETTO:+0100
TZNAME:BST
END:DAYLIGHT
END:VTIMEZONE
END:VCALENDAR