BEGIN:VCALENDAR
VERSION:2.0
PRODID:-//wp-events-plugin.com//7.2.3.1//EN
TZID:Europe/London
X-WR-TIMEZONE:Europe/London
BEGIN:VEVENT
UID:589@kingsgrove-residents.co.uk
DTSTART;TZID=Europe/London:20251127T170000
DTEND;TZID=Europe/London:20251127T183000
DTSTAMP:20251125T214510Z
URL:https://kingsgrove-residents.co.uk/events/christmas-at-kingsgrove-2025
 /
SUMMARY:Christmas at Kingsgrove - in the Public Square
DESCRIPTION:Join us at the fifth annual Kingsgrove Christmas celebration!\n
 Come along to hear live music\, sing carols\, and mingle and jingle with y
 our neighbours.\n\n\n\n\n\nThere will be FREE mulled wine and mince pies p
 rovided by the Wantage Community Church and Charlton Lodge Care Home.\n\n\
 n\n\n\nYou can meet Santa and enjoy live music from the Wantage Silver Ban
 d while enjoying the Christmas lights and general merriment in the public 
 square\, which is a change to the original publicity information.\n\n\n\n\
 n\nLook forward to seeing you there.\n\n\n\n\nOrganised by Wantage Communi
 ty Church\, Preim &amp\; Charlton Lodge with support from your community d
 evelopment officer\, Brighton STM Developments and residents.\n\n
ATTACH;FMTTYPE=image/jpeg:https://i0.wp.com/kingsgrove-residents.co.uk/wp-
 content/uploads/2025/11/xmas-k.jpg?fit=1125%2C1628&ssl=1
CATEGORIES:Community Events
LOCATION:Kingsgrove Public Square\, Kingsgrove Public Square\, Rutherford R
 oad\, Wantage\, Oxfordshire\, OX12 7FX\, United Kingdom
X-APPLE-STRUCTURED-LOCATION;VALUE=URI;X-ADDRESS=Kingsgrove Public Square\, 
 Rutherford Road\, Wantage\, Oxfordshire\, OX12 7FX\, United Kingdom;X-APPL
 E-RADIUS=100;X-TITLE=Kingsgrove Public Square:geo:0,0
END:VEVENT
BEGIN:VTIMEZONE
TZID:Europe/London
X-LIC-LOCATION:Europe/London
BEGIN:STANDARD
DTSTART:20251026T010000
TZOFFSETFROM:+0100
TZOFFSETTO:+0000
TZNAME:GMT
END:STANDARD
END:VTIMEZONE
END:VCALENDAR