BEGIN:VCALENDAR
VERSION:2.0
PRODID:-//wp-events-plugin.com//7.2.3.1//EN
TZID:Europe/London
X-WR-TIMEZONE:Europe/London
BEGIN:VEVENT
UID:550@kingsgrove-residents.co.uk
DTSTART;TZID=Europe/London:20260423T133000
DTEND;TZID=Europe/London:20260423T143000
DTSTAMP:20250814T142756Z
URL:https://kingsgrove-residents.co.uk/events/community-walk-around-kingsg
 rove-woodland-trails-and-beyond-2025-01-02-2025-01-09-2025-01-16-2025-01-2
 3-2025-01-30-2025-02-06-2025-02-13-2025-02-20-2025-02-27-2025-03-06-2025-0
 3-13-2025-16-2026-04-23/
SUMMARY:Community Walk around Kingsgrove Woodland trails and beyond
DESCRIPTION:These popular weekly walks are being enjoyed by those who work 
 from home\, dog walkers\, buggies\, babies\, carers\, and those just wanti
 ng some fresh air during the day.\nEvery Thursday\, join us for a guided w
 alk around the Kingsgrove woodland trails and explore some of the trails f
 urther afield – into the nearby fields!\nThe walk is a chance to meet yo
 ur neighbours and have a chat while enjoying the beautiful countryside.\nM
 eet just before the start time at the Kingsgrove Public Square on Rutherfo
 rd Road\, Wantage. There is free parking next to the square\, behind the C
 o-op and also behind the school in the Pavilion car park further down Ruth
 erford Road.\nAll abilities welcome\, please wear sturdy shoes. Some of th
 e path is newly opened\, it is flat with a very mild gradient in some plac
 es\, so would be suitable for mobility scooters and buggies. Dogs are very
  welcome on a lead.\n
ATTACH;FMTTYPE=image/jpeg:https://i0.wp.com/kingsgrove-residents.co.uk/wp-
 content/uploads/2023/10/walk.jpg?fit=2048%2C838&ssl=1
CATEGORIES:Community Events
LOCATION:Kingsgrove Public Square\, Kingsgrove Public Square\, Rutherford R
 oad\, Wantage\, Oxfordshire\, OX12 7FX\, United Kingdom
X-APPLE-STRUCTURED-LOCATION;VALUE=URI;X-ADDRESS=Kingsgrove Public Square\, 
 Rutherford Road\, Wantage\, Oxfordshire\, OX12 7FX\, United Kingdom;X-APPL
 E-RADIUS=100;X-TITLE=Kingsgrove Public Square:geo:0,0
END:VEVENT
BEGIN:VTIMEZONE
TZID:Europe/London
X-LIC-LOCATION:Europe/London
BEGIN:DAYLIGHT
DTSTART:20260329T020000
TZOFFSETFROM:+0000
TZOFFSETTO:+0100
TZNAME:BST
END:DAYLIGHT
END:VTIMEZONE
END:VCALENDAR