BEGIN:VCALENDAR
VERSION:2.0
PRODID:-//wp-events-plugin.com//7.2.3.1//EN
TZID:Europe/London
X-WR-TIMEZONE:Europe/London
BEGIN:VEVENT
UID:609@kingsgrove-residents.co.uk
DTSTART;TZID=Europe/London:20260212T100000
DTEND;TZID=Europe/London:20260212T120000
DTSTAMP:20260202T161754Z
URL:https://kingsgrove-residents.co.uk/events/crab-hill-development-forum-
 thursday-12-february/
SUMMARY:Crab Hill Development Forum - Thursday 12 February
DESCRIPTION:Although the Crab Hill Development Forum is a closed meeting\, 
 the Kingsgrove Residents Working Group is typically offered a place on the
  agenda to make sure that the views of people actually living on the devel
 opment are heard.\n\nIf you have anything that you want raising at this me
 eting\, please get in touch. It is important to note that the meeting disc
 usses planning specific matters. As a result\, questions / comments about 
 service charges and value of money etc aren’t relevant.\nAbout the Crab 
 Hill Development Forum\nOccurring once every four months or so\, the forum
  serves as a place to discuss the progress of the development and any matt
 ers arising\, particularly in relation to planning. It is attended by repr
 esentatives of St. Modwen\, Preim\, Vale of White Horse District Council O
 fficers\, Wantage Town Council\, Oxfordshire County Council Officers\, Cou
 ncillors from Wantage and Grove\, Oxfordshire Community Churches and HarBU
 G.\n\nIt is likely that there will be significantly fewer meetings from 20
 27 onwards\, if any at all.
CATEGORIES:Crab Hill Development Forum
LOCATION:Wantage Town Football Club\, Alfredian Park\, Manor Road\, Wantage
 \, OX12 8DW\, United Kingdom
X-APPLE-STRUCTURED-LOCATION;VALUE=URI;X-ADDRESS=Alfredian Park\, Manor Road
 \, Wantage\, OX12 8DW\, United Kingdom;X-APPLE-RADIUS=100;X-TITLE=Wantage 
 Town Football Club:geo:0,0
END:VEVENT
BEGIN:VTIMEZONE
TZID:Europe/London
X-LIC-LOCATION:Europe/London
BEGIN:STANDARD
DTSTART:20251026T010000
TZOFFSETFROM:+0100
TZOFFSETTO:+0000
TZNAME:GMT
END:STANDARD
END:VTIMEZONE
END:VCALENDAR