BEGIN:VCALENDAR
VERSION:2.0
PRODID:-//wp-events-plugin.com//7.2.3.1//EN
TZID:Europe/London
X-WR-TIMEZONE:Europe/London
BEGIN:VEVENT
UID:267@kingsgrove-residents.co.uk
DTSTART;TZID=Europe/London:20250806T120000
DTEND;TZID=Europe/London:20250806T150000
DTSTAMP:20250725T111544Z
URL:https://kingsgrove-residents.co.uk/events/kingsgrove-community-informa
 tion-drop-in-session/
SUMMARY:Kingsgrove Community Information Drop-in Session
DESCRIPTION:To coincide with the official opening of Kingsgrove's Little Pi
 oneers Nursery\, the Kingsgrove Community team will be holding a community
  drop-in session on Wednesday 6 August 2025\, running from 12 noon to 3pm.
 \n\nWho will be there?\nThis informal event brings together representative
 s from:\n\n\n 	Preim – Your Managing Agent acting on behalf of Kingsgrov
 e Estate Management Company\n 	Cratus – On behalf of the Master Develope
 r\n 	Kingsgrove Resident Reps – Your Resident Representatives on the Kin
 gsgrove Residents Working Group\n 	Zoe Norton – Community Development Of
 ficer for Kingsgrove and Wellington Gate\n\nQuestions about Kingsgrove\nIf
  you have any questions about your development or the wider Kingsgrove sit
 e\, this is a great opportunity to speak to the teams involved. Between th
 em\, they will do their best to provide information\, updates\, and guidan
 ce on the day.\nNo appointment needed – just drop by!\nBased under gazeb
 os in front of the new retail units\, between the Co-op and the nursery.\n
 Hope to see you there!\n\nSpread the word!\nNot everyone has access to Wha
 tsApp or Facebook\, so it would be great if you could help to spread the w
 ord amongst your neighbours and friends that live on the estate to make su
 re that everyone has the opportunity to come along!\nAsking questions anyt
 ime\nObviously not everyone that wants to come to this event and ask a que
 stion will be able to. If you know that you won’t be able to make it but
  you have questions\, please use our contact page to submit them and we wi
 ll pass them on to the relevant people.
CATEGORIES:Community Drop In,Community Events
LOCATION:Area between Co-op and Little Pioneers Nursery\, Rutherford Road\,
  Wantage\, United Kingdom
X-APPLE-STRUCTURED-LOCATION;VALUE=URI;X-ADDRESS=Rutherford Road\, Wantage\,
  United Kingdom;X-APPLE-RADIUS=100;X-TITLE=Area between Co-op and Little P
 ioneers Nursery:geo:0,0
END:VEVENT
BEGIN:VTIMEZONE
TZID:Europe/London
X-LIC-LOCATION:Europe/London
BEGIN:DAYLIGHT
DTSTART:20250330T020000
TZOFFSETFROM:+0000
TZOFFSETTO:+0100
TZNAME:BST
END:DAYLIGHT
END:VTIMEZONE
END:VCALENDAR