BEGIN:VCALENDAR
VERSION:2.0
PRODID:-//wp-events-plugin.com//7.2.3.1//EN
TZID:Europe/London
X-WR-TIMEZONE:Europe/London
BEGIN:VEVENT
UID:617@kingsgrove-residents.co.uk
DTSTART;TZID=Europe/London:20260426T110000
DTEND;TZID=Europe/London:20260426T150000
DTSTAMP:20260317T164926Z
URL:https://kingsgrove-residents.co.uk/events/wantage-presents-st-georges-
 day/
SUMMARY:Wantage presents “St. George’s Day”
DESCRIPTION:Slay the day with St. George’s Day fun in Wantage!\nDragons\,
  music\, and medieval fun for all the family!\n\n 	Plenty of artisans stal
 ls\n 	Live music\n 	Great food\n 	Free entry\n 	Free children’s entertai
 nment!\n\nWhy not come dressed up?\nKnights\, dragons\, princesses\, and m
 ore! Dress for adventure!\nMore information\nFurther information can be fo
 und here.\n\n\n\nWith thanks to the sponsors:\n\n 	Larkmead Vets\n 	Specsa
 vers Wantage\n 	Helping Hands (Wantage)\n
ATTACH;FMTTYPE=image/jpeg:https://i0.wp.com/kingsgrove-residents.co.uk/wp-
 content/uploads/2026/03/IMG_0820.jpeg?fit=1409%2C2000&ssl=1
CATEGORIES:Wantage Community Events
LOCATION:Wantage Market Place\, Wantage Market Place\, Wantage\, OX12 8AW\,
  United Kingdom
X-APPLE-STRUCTURED-LOCATION;VALUE=URI;X-ADDRESS=Wantage Market Place\, Want
 age\, OX12 8AW\, United Kingdom;X-APPLE-RADIUS=100;X-TITLE=Wantage Market 
 Place:geo:0,0
END:VEVENT
BEGIN:VTIMEZONE
TZID:Europe/London
X-LIC-LOCATION:Europe/London
BEGIN:DAYLIGHT
DTSTART:20260329T020000
TZOFFSETFROM:+0000
TZOFFSETTO:+0100
TZNAME:BST
END:DAYLIGHT
END:VTIMEZONE
END:VCALENDAR